BEGIN:VCALENDAR
VERSION:2.0
PRODID: -//CMS 5.0 //NONSGML //DE
BEGIN:VEVENT
SUMMARY:Jugendgottesdienst mit Zwickau
DESCRIPTION:Jugendgottesdienst im St. Anna Stollen\n\n\n\nhttps://schoen
 feld.nak-nordost.de/db/566752
UID:566752@schoenfeld.nak-nordost.de
LOCATION:Thomas Wetzke
CATEGORIES:Kirchenbezirk Chemnitz (Alle Gemeinden),Gottesdienst,Kirchenbezirk Chemnitz,Jugendgottesdienst,Kirchenbezirk Zwickau,Kirchenbezirk Zwickau (Alle Gemeinden),Jugend
X-ORGANIZER:
STATUS:CONFIRMED
CLASS:PUBLIC
DTSTART:20260510T083000Z
DTEND:20260510T094500Z
DTSTAMP:20260420T205838Z
CREATED:20251220T175643Z
LAST-MODIFIED:20251220T175643Z
BEGIN:VALARM
UID:B48AD290-3CFB-11F1-84E0-2B405629324C
TRIGGER:-PT60M
ACTION:DISPLAY
DESCRIPTION:SUMMARY:Jugendgottesdienst mit Zwickau
END:VALARM
END:VEVENT
END:VCALENDAR
